BEGIN:VCALENDAR
VERSION:2.0
PRODID:-//wp-events-plugin.com//7.2.2.1//EN
TZID:Europe/Berlin
X-WR-TIMEZONE:Europe/Berlin
BEGIN:VEVENT
UID:41@kaliebe.de
DTSTART;TZID=Europe/Berlin:20261019T000000
DTEND;TZID=Europe/Berlin:20261213T000000
DTSTAMP:20260116T150135Z
URL:https://kaliebe.de/events/winterauszeit-2026/
SUMMARY:❄️ Winterauszeit 2026 – Ruhe & Entspannung
DESCRIPTION:Der Winter auf Usedom ist besonders ruhig und erholsam. Perfekt
 \, um abzuschalten\, neue Energie zu tanken und sich etwas Gutes zu tun. E
 ine wohltuende Massage und entspannte Saunagänge machen Deine Auszeit kom
 plett.\nInklusivleistungen: 1x Massage\, 1x Sauna
ATTACH;FMTTYPE=image/jpeg:https://kaliebe.de/wp-content/uploads/2023/08/20
 23-06-28-Kaliebe-Personen-DSC05107-2.jpg
LOCATION:Hotel Kaliebe\, Zeltplatzstraße 14\, Trassenheide\, 17449\, Deuts
 chland
X-APPLE-STRUCTURED-LOCATION;VALUE=URI;X-ADDRESS=Zeltplatzstraße 14\, Trass
 enheide\, 17449\, Deutschland;X-APPLE-RADIUS=100;X-TITLE=Hotel Kaliebe:geo
 :0,0
END:VEVENT
BEGIN:VTIMEZONE
TZID:Europe/Berlin
X-LIC-LOCATION:Europe/Berlin
BEGIN:DAYLIGHT
DTSTART:20260329T030000
TZOFFSETFROM:+0100
TZOFFSETTO:+0200
TZNAME:CEST
END:DAYLIGHT
BEGIN:STANDARD
DTSTART:20261025T020000
TZOFFSETFROM:+0200
TZOFFSETTO:+0100
TZNAME:CET
END:STANDARD
END:VTIMEZONE
END:VCALENDAR