BEGIN:VCALENDAR
VERSION:2.0
PRODID:-//wp-events-plugin.com//7.2.2.1//EN
TZID:Europe/Berlin
X-WR-TIMEZONE:Europe/Berlin
BEGIN:VEVENT
UID:40@kaliebe.de
DTSTART;TZID=Europe/Berlin:20261221T000000
DTEND;TZID=Europe/Berlin:20261228T000000
DTSTAMP:20260113T094136Z
URL:https://kaliebe.de/events/weihnachten-im-hotel-kaliebe-2026/
SUMMARY:🎄 Weihnachten im Hotel Kaliebe - Festlich & gemütlich
DESCRIPTION:Verbringe die Weihnachtszeit ganz entspannt an der Ostsee. Kein
 e Hektik\, kein Stress – dafür festliche Menüs\, gemütliche Stunden u
 nd winterliche Spaziergänge am Meer. Ideal\, um das Jahr ruhig ausklingen
  zu lassen.\nInklusivleistungen: Festtagsmenü\, 2x Halbpension
ATTACH;FMTTYPE=image/jpeg:https://kaliebe.de/wp-content/uploads/2025/11/We
 ihnachten_5Uebernachtungen.jpg
LOCATION:Hotel Kaliebe\, Zeltplatzstraße 14\, Trassenheide\, 17449\, Deuts
 chland
X-APPLE-STRUCTURED-LOCATION;VALUE=URI;X-ADDRESS=Zeltplatzstraße 14\, Trass
 enheide\, 17449\, Deutschland;X-APPLE-RADIUS=100;X-TITLE=Hotel Kaliebe:geo
 :0,0
END:VEVENT
BEGIN:VTIMEZONE
TZID:Europe/Berlin
X-LIC-LOCATION:Europe/Berlin
BEGIN:STANDARD
DTSTART:20261025T020000
TZOFFSETFROM:+0200
TZOFFSETTO:+0100
TZNAME:CET
END:STANDARD
END:VTIMEZONE
END:VCALENDAR