BEGIN:VCALENDAR
VERSION:2.0
PRODID:-//wp-events-plugin.com//7.2.2.1//EN
TZID:Europe/Berlin
X-WR-TIMEZONE:Europe/Berlin
BEGIN:VEVENT
UID:42@kaliebe.de
DTSTART;TZID=Europe/Berlin:20261228T000000
DTEND;TZID=Europe/Berlin:20270103T000000
DTSTAMP:20260116T144513Z
URL:https://kaliebe.de/events/silvester-auf-usedom-2026/
SUMMARY:🎆 Silvester am Meer – Stilvoll ins neue Jahr
DESCRIPTION:5 Nächte | 28.12.–03.01. | 659 € p. P.\n\nFeiere den Jahre
 swechsel ganz entspannt an der Ostsee. Freu Dich auf ein festliches Galabu
 ffet\, geselliges Neujahresgrillen und eine kleine Überraschung zur Abrei
 se. Der perfekte Start ins neue Jahr – ruhig\, genussvoll und besonders.
 \nInklusivleistungen: Galabuffet\, Neujahresgrillen\, Überraschung zur Ab
 reise
ATTACH;FMTTYPE=image/jpeg:https://kaliebe.de/wp-content/uploads/2026/01/Si
 lvester_Kaliebe_2026.jpg
LOCATION:Hotel Kaliebe\, Zeltplatzstraße 14\, Trassenheide\, 17449\, Deuts
 chland
X-APPLE-STRUCTURED-LOCATION;VALUE=URI;X-ADDRESS=Zeltplatzstraße 14\, Trass
 enheide\, 17449\, Deutschland;X-APPLE-RADIUS=100;X-TITLE=Hotel Kaliebe:geo
 :0,0
END:VEVENT
BEGIN:VTIMEZONE
TZID:Europe/Berlin
X-LIC-LOCATION:Europe/Berlin
BEGIN:STANDARD
DTSTART:20261025T020000
TZOFFSETFROM:+0200
TZOFFSETTO:+0100
TZNAME:CET
END:STANDARD
END:VTIMEZONE
END:VCALENDAR