BEGIN:VCALENDAR
VERSION:2.0
PRODID:-//wp-events-plugin.com//7.2.2.1//EN
TZID:Europe/Berlin
X-WR-TIMEZONE:Europe/Berlin
BEGIN:VEVENT
UID:47@kaliebe.de
DTSTART;TZID=Europe/Berlin;VALUE=DATE:20261204
DTEND;TZID=Europe/Berlin;VALUE=DATE:20261207
DTSTAMP:20260116T140123Z
URL:https://kaliebe.de/events/schlemmerwochenende-26-12-04/
SUMMARY:Schlemmerwochenende & Tanzabend
DESCRIPTION:Schlemmerbuffet &amp\; Tanzabend im Hotel &amp\; Restaurant Kal
 iebe\n\nErleben Sie einen unvergesslichen Abend voller Genuss und Unterhal
 tung bei unserem exklusiven Schlemmerbuffet &amp\; Tanzabend mit DJ Heike.
  Für nur 49\,00 € pro Person erwarten Sie nicht nur kulinarische Highli
 ghts\, sondern auch schwungvolle Musik\, die den Abend perfekt abrundet.\n
 \nLassen Sie sich zunächst von unserem reichhaltigen Buffet verzaubern: E
 ine exquisite Auswahl an frischen Fischspezialitäten\, saftigen Fleischge
 richten und herzhaften Braten wartet auf Sie. Ergänzt wird das Angebot du
 rch eine Vielfalt an Beilagen und aromatischen Suppen. Ein besonderes High
 light des Abends sind unsere frisch gegrillten Köstlichkeiten. Ob zartes 
 Fleisch\, Fisch oder vegetarische Delikatessen – für jeden Geschmack is
 t etwas dabei.\n\nDoch damit endet der Abend noch lange nicht! Nach dem ku
 linarischen Genuss lädt Sie unser Tanzabend ein\, das Tanzbein zu schwing
 en. Genießen Sie eine fröhliche Atmosphäre\, in der Sie zu mitreißende
 r Musik tanzen und den Abend beschwingt ausklingen lassen können. Ob Sie 
 erfahrene Tänzer sind oder einfach nur Spaß an der Bewegung haben – be
 i uns stehen Genuss und Lebensfreude im Mittelpunkt.\n\nKommen Sie mit Ihr
 en Liebsten\, genießen Sie die ausgezeichnete Küche des Hotel &amp\; Res
 taurant Kaliebe und lassen Sie den Abend mit Musik und Tanz ausklingen. Re
 servieren Sie noch heute Ihren Tisch und freuen Sie sich auf einen Abend v
 oller kulinarischer und musikalischer Höhepunkte\, der Ihnen noch lange i
 n Erinnerung bleiben wird!
ATTACH;FMTTYPE=image/jpeg:https://kaliebe.de/wp-content/uploads/2024/09/Ka
 liebe_Schlemmerbuffet_Tanzabend.jpg
LOCATION:Hotel Kaliebe\, Zeltplatzstraße 14\, Trassenheide\, 17449\, Deuts
 chland
X-APPLE-STRUCTURED-LOCATION;VALUE=URI;X-ADDRESS=Zeltplatzstraße 14\, Trass
 enheide\, 17449\, Deutschland;X-APPLE-RADIUS=100;X-TITLE=Hotel Kaliebe:geo
 :0,0
END:VEVENT
BEGIN:VTIMEZONE
TZID:Europe/Berlin
X-LIC-LOCATION:Europe/Berlin
BEGIN:STANDARD
DTSTART:20261025T020000
TZOFFSETFROM:+0200
TZOFFSETTO:+0100
TZNAME:CET
END:STANDARD
END:VTIMEZONE
END:VCALENDAR