BEGIN:VCALENDAR
VERSION:2.0
PRODID:-//wp-events-plugin.com//7.2.2.1//EN
TZID:Europe/Berlin
X-WR-TIMEZONE:Europe/Berlin
BEGIN:VEVENT
UID:23@kaliebe.de
DTSTART;TZID=Europe/Berlin:20251108T180000
DTEND;TZID=Europe/Berlin:20251108T234500
DTSTAMP:20250127T194856Z
URL:https://kaliebe.de/events/schlemmerbuffet-tanzabend-7/
SUMMARY:Schlemmerbuffet & Tanzabend
DESCRIPTION:Schlemmerbuffet &amp\; Tanzabend im Hotel Kaliebe &amp\; Restau
 rant Buttje\n\nErleben Sie einen unvergesslichen Abend voller Genuss und U
 nterhaltung bei unserem exklusiven Schlemmerbuffet &amp\; Tanzabend mit DJ
  Heike. Für nur 49\,00 € (exkl. Getränke) pro Person erwarten Sie nich
 t nur kulinarische Highlights und ein Begrüßungssekt\, sondern auch schw
 ungvolle Musik\, die den Abend perfekt abrundet.\n\nLassen Sie sich zunäc
 hst von unserem reichhaltigen Buffet verzaubern: Eine exquisite Auswahl an
  frischen Fischspezialitäten\, saftigen Fleischgerichten und kulinarische
 n Überraschungen wie Sushi\, Ochsenbäckchen oder Spanferkel wartet auf S
 ie. Ergänzt wird das Angebot durch eine Vielfalt an Beilagen\, hausgemach
 ten Salaten und leckeren Desserts. Ein besonderes Highlight des Abends ist
  unser Schaustück zum Beispiel irländisches Entrecote vom Bison welches 
 Ihnen unser Chefkoch persönlich frisch tranchiert.\n\nDoch damit endet de
 r Abend noch lange nicht! Nach dem kulinarischen Genuss lädt Sie unser Ta
 nzabend ein\, das Tanzbein zu schwingen. Genießen Sie eine fröhliche Atm
 osphäre\, in der Sie zu mitreißender Musik tanzen und den Abend beschwin
 gt ausklingen lassen können. Ob Sie erfahrene Tänzer sind oder einfach n
 ur Spaß an der Bewegung haben – bei uns stehen Genuss und Lebensfreude 
 im Mittelpunkt.\n\nKommen Sie mit Ihren Liebsten\, genießen Sie die ausge
 zeichnete Küche des Hotel Kaliebe &amp\; Restaurant Buttje und lassen Sie
  den Abend mit Musik und Tanz ausklingen. Reservieren Sie noch heute Ihren
  Tisch und freuen Sie sich auf einen Abend voller kulinarischer und musika
 lischer Höhepunkte\, der Ihnen noch lange in Erinnerung bleiben wird!
ATTACH;FMTTYPE=image/jpeg:https://kaliebe.de/wp-content/uploads/2024/09/Ka
 liebe_Schlemmerbuffet_Tanzabend.jpg
LOCATION:Restaurant „Buttje“ – Hotel Kaliebe\, Zeltplatzstraße 14\, 
 Trassenheide\, 17449\, Deutschland
X-APPLE-STRUCTURED-LOCATION;VALUE=URI;X-ADDRESS=Zeltplatzstraße 14\, Trass
 enheide\, 17449\, Deutschland;X-APPLE-RADIUS=100;X-TITLE=Restaurant „But
 tje“ – Hotel Kaliebe:geo:0,0
END:VEVENT
BEGIN:VTIMEZONE
TZID:Europe/Berlin
X-LIC-LOCATION:Europe/Berlin
BEGIN:STANDARD
DTSTART:20251026T020000
TZOFFSETFROM:+0200
TZOFFSETTO:+0100
TZNAME:CET
END:STANDARD
END:VTIMEZONE
END:VCALENDAR