BEGIN:VCALENDAR
VERSION:2.0
PRODID:-//wp-events-plugin.com//7.2.2.1//EN
TZID:Europe/Berlin
X-WR-TIMEZONE:Europe/Berlin
BEGIN:VEVENT
UID:38@kaliebe.de
DTSTART;TZID=Europe/Berlin:20260521T000000
DTEND;TZID=Europe/Berlin:20260525T000000
DTSTAMP:20260116T150050Z
URL:https://kaliebe.de/events/pfingsten-2026/
SUMMARY:🌸 Pfingsten – Kleine Auszeit\, große Erholung
DESCRIPTION:4 Nächte | 21.05.–25.05. | 436 € p. P.\nPfingsten ist idea
 l für eine kurze Auszeit am Meer. Genieße entspannte Tage\, erkunde die 
 Insel mit dem Fahrrad und freue Dich auf einen geselligen Grillabend in en
 tspannter Atmosphäre.Inklusivleistungen: Grillabend\, 1x Fahrradverleih
ATTACH;FMTTYPE=image/jpeg:https://kaliebe.de/wp-content/uploads/2023/08/20
 23-06-28-Kaliebe-Dateils-Hotel-DSC05151.jpg
LOCATION:Hotel Kaliebe\, Zeltplatzstraße 14\, Trassenheide\, 17449\, Deuts
 chland
X-APPLE-STRUCTURED-LOCATION;VALUE=URI;X-ADDRESS=Zeltplatzstraße 14\, Trass
 enheide\, 17449\, Deutschland;X-APPLE-RADIUS=100;X-TITLE=Hotel Kaliebe:geo
 :0,0
END:VEVENT
BEGIN:VTIMEZONE
TZID:Europe/Berlin
X-LIC-LOCATION:Europe/Berlin
BEGIN:DAYLIGHT
DTSTART:20260329T030000
TZOFFSETFROM:+0100
TZOFFSETTO:+0200
TZNAME:CEST
END:DAYLIGHT
END:VTIMEZONE
END:VCALENDAR