BEGIN:VCALENDAR
VERSION:2.0
PRODID:-//wp-events-plugin.com//7.2.2.1//EN
TZID:Europe/Berlin
X-WR-TIMEZONE:Europe/Berlin
BEGIN:VEVENT
UID:39@kaliebe.de
DTSTART;TZID=Europe/Berlin:20260430T000000
DTEND;TZID=Europe/Berlin:20260503T000000
DTSTAMP:20260119T130037Z
URL:https://kaliebe.de/events/maifeiertag-2026/
SUMMARY:🌼 Maifeiertag – Frühling\, Sonne\, Genuss
DESCRIPTION:3 Nächte | 30.04.–03.05. | 234 € p. P.\nStarte entspannt i
 n den Mai! Frische Seeluft\, erste warme Tage und ein geselliger Grillaben
 d machen diesen Kurzurlaub perfekt für Genießer und Insel-Liebhaber.Inkl
 usivleistungen: Grillabend
ATTACH;FMTTYPE=image/jpeg:https://kaliebe.de/wp-content/uploads/2023/08/20
 23-06-28-Kaliebe-Dateils-Hotel-DSC05135.jpg
LOCATION:Restaurant „Buttje“ – Hotel Kaliebe\, Zeltplatzstraße 14\, 
 Trassenheide\, 17449\, Deutschland
X-APPLE-STRUCTURED-LOCATION;VALUE=URI;X-ADDRESS=Zeltplatzstraße 14\, Trass
 enheide\, 17449\, Deutschland;X-APPLE-RADIUS=100;X-TITLE=Restaurant „But
 tje“ – Hotel Kaliebe:geo:0,0
END:VEVENT
BEGIN:VTIMEZONE
TZID:Europe/Berlin
X-LIC-LOCATION:Europe/Berlin
BEGIN:DAYLIGHT
DTSTART:20260329T030000
TZOFFSETFROM:+0100
TZOFFSETTO:+0200
TZNAME:CEST
END:DAYLIGHT
END:VTIMEZONE
END:VCALENDAR