BEGIN:VCALENDAR
VERSION:2.0
PRODID:-//wp-events-plugin.com//7.2.2.1//EN
TZID:Europe/Berlin
X-WR-TIMEZONE:Europe/Berlin
BEGIN:VEVENT
UID:37@kaliebe.de
DTSTART;TZID=Europe/Berlin:20260513T000000
DTEND;TZID=Europe/Berlin:20260517T000000
DTSTAMP:20260113T092937Z
URL:https://kaliebe.de/events/himmelfahrt-2026/
SUMMARY:🚴‍♀️ Himmelfahrt – Aktiv & entspannt
DESCRIPTION:4 Nächte | 13.05.–17.05. | 436 € p. P.\nDer Mai zeigt sich
  von seiner besten Seite! Entdecke Usedom auf zwei Rädern\, genieße lang
 e Tage an der frischen Luft und lass den Abend bei einem gemütlichen Gril
 labend ausklingen. Eine perfekte Kombination aus Aktivurlaub und Entspannu
 ng.Inklusivleistungen: Grillabend\, 1x Fahrradverleih
ATTACH;FMTTYPE=image/jpeg:https://kaliebe.de/wp-content/uploads/2023/08/20
 23-06-28-Kaliebe-Dateils-Hotel-DSC05130.jpg
LOCATION:Hotel Kaliebe\, Zeltplatzstraße 14\, Trassenheide\, 17449\, Deuts
 chland
X-APPLE-STRUCTURED-LOCATION;VALUE=URI;X-ADDRESS=Zeltplatzstraße 14\, Trass
 enheide\, 17449\, Deutschland;X-APPLE-RADIUS=100;X-TITLE=Hotel Kaliebe:geo
 :0,0
END:VEVENT
BEGIN:VTIMEZONE
TZID:Europe/Berlin
X-LIC-LOCATION:Europe/Berlin
BEGIN:DAYLIGHT
DTSTART:20260329T030000
TZOFFSETFROM:+0100
TZOFFSETTO:+0200
TZNAME:CEST
END:DAYLIGHT
END:VTIMEZONE
END:VCALENDAR